BEGIN:VCALENDAR
VERSION:2.0
PRODID:-//ChamberMaster//Event Calendar 2.0//EN
METHOD:PUBLISH
X-PUBLISHED-TTL:P3D
REFRESH-INTERVAL:P3D
CALSCALE:GREGORIAN
BEGIN:VEVENT
DTSTART:20140603T114500Z
DTEND:20140603T153000Z
X-MICROSOFT-CDO-ALLDAYEVENT:FALSE
SUMMARY:Transportation Summit
DESCRIPTION:The economy and quality of life are inseparable when it comes to transportation infrastructure.  Join us on June 3rd as we hear from experts on economic development and transportation - roads\, rail\, transit & air.  NCDOT Secretary Tony Tata will join us to explain the new and much anticipated projects funding formula.\n\nContinental breakfast will be included. *Members and non-members are welcome. \n\nMany thanks to our sponsors:\nPremier - CFM Real Estate & Vulcan Materials\nCorporate - Ben Mynatt Family of Dealerships & Cabarrus Magazine\n\n*No Refunds available for cancellations recieved less than 72 hours prior to the event.
X-ALT-DESC;FMTTYPE=text/html:The economy and quality of life are inseparable when it comes to transportation infrastructure.  Join us on June 3rd as we hear from experts on economic development and transportation - roads\, rail\, transit & air.  NCDOT Secretary Tony Tata will join us to explain the new and much anticipated projects funding formula.\n\nContinental breakfast will be included. *Members and non-members are welcome. \n\nMany thanks to our sponsors:\nPremier - CFM Real Estate & Vulcan Materials\nCorporate - Ben Mynatt Family of Dealerships & Cabarrus Magazine\n\n*No Refunds available for cancellations recieved less than 72 hours prior to the event.
LOCATION:Speedway Club Ballroom Charlotte Motor Speedway 5555 Concord Parkway South\, 28027
UID:e.2418.25416
SEQUENCE:3
DTSTAMP:20260426T001230Z
URL:http://cabarrus.chambermaster.com/events/details/transportation-summit-06-03-2014-25416
END:VEVENT

END:VCALENDAR
