BEGIN:VCALENDAR
VERSION:2.0
PRODID:-//ChamberMaster//Event Calendar 2.0//EN
METHOD:PUBLISH
X-PUBLISHED-TTL:P3D
REFRESH-INTERVAL:P3D
CALSCALE:GREGORIAN
BEGIN:VEVENT
DTSTART:20140908T123000Z
DTEND:20140908T213000Z
X-MICROSOFT-CDO-ALLDAYEVENT:FALSE
SUMMARY:Grantsmanship Training Program
DESCRIPTION:Get the tools and experience to secure funding for your cause\nYou're personally guided by a seasoned expert\, a trainer with years of practical experience and loads of up-to-date information about the world of grants today. Your trainer suggests the best approaches to the problems your organization faces—and shares insights that can save you from costly mistakes and years of trial-and-error learning. You actively create real proposals in class. It's theory put into action!
X-ALT-DESC;FMTTYPE=text/html:Get the tools and experience to secure funding for your cause\nYou're personally guided by a seasoned expert\, a trainer with years of practical experience and loads of up-to-date information about the world of grants today. Your trainer suggests the best approaches to the problems your organization faces—and shares insights that can save you from costly mistakes and years of trial-and-error learning. You actively create real proposals in class. It's theory put into action!
LOCATION:Harrisburg Town Hall\, 4100 Main St.\, Harrisburg NC 28075
UID:e.2418.5100783
SEQUENCE:3
DTSTAMP:20260424T160423Z
URL:http://cabarrus.chambermaster.com/events/details/grantsmanship-training-program-09-08-2014-5100783
END:VEVENT

END:VCALENDAR
