BEGIN:VCALENDAR
VERSION:2.0
PRODID:-//ChamberMaster//Event Calendar 2.0//EN
METHOD:PUBLISH
X-PUBLISHED-TTL:P3D
REFRESH-INTERVAL:P3D
CALSCALE:GREGORIAN
BEGIN:VEVENT
DTSTART:20140609T140000Z
DTEND:20140731T200000Z
X-MICROSOFT-CDO-ALLDAYEVENT:FALSE
SUMMARY:Comic Relief
DESCRIPTION:Whimsical\, fun artworks and art techniques.
X-ALT-DESC;FMTTYPE=text/html:Whimsical\, fun artworks and art techniques.
LOCATION:Cabarrus Arts Council The Galleries 65 Union Street S Concord\, NC 28025
UID:e.2418.5094353
SEQUENCE:3
DTSTAMP:20260426T001229Z
URL:http://cabarrus.chambermaster.com/events/details/comic-relief-06-09-2014-5094353
END:VEVENT

END:VCALENDAR
