BEGIN:VCALENDAR
VERSION:2.0
PRODID:-//ChamberMaster//Event Calendar 2.0//EN
METHOD:PUBLISH
X-PUBLISHED-TTL:P3D
REFRESH-INTERVAL:P3D
CALSCALE:GREGORIAN
BEGIN:VEVENT
DTSTART:20140603T120000Z
DTEND:20140603T131500Z
X-MICROSOFT-CDO-ALLDAYEVENT:FALSE
SUMMARY:Cabarrus Connections Group
DESCRIPTION:Connections Goup meets the first and third Tuesday of the month.
X-ALT-DESC;FMTTYPE=text/html:Connections Goup meets the first and third Tuesday of the month.
LOCATION:Panera Bread- Across from Concord Mills Mall 8034 Concord Mills Blvd. Concord\, NC 28027
UID:e.2418.34660
SEQUENCE:3
DTSTAMP:20260426T001229Z
URL:http://cabarrus.chambermaster.com/events/details/cabarrus-connections-group-06-03-2014-34660
END:VEVENT

END:VCALENDAR
